BEGIN:VCALENDAR
VERSION:2.0
PRODID:-//Freas Farm Wines - ECPv4.7.3//NONSGML v1.0//EN
CALSCALE:GREGORIAN
METHOD:PUBLISH
X-WR-CALNAME:Freas Farm Wines
X-ORIGINAL-URL:https://www.freasfarmwines.com
X-WR-CALDESC:Events for Freas Farm Wines
BEGIN:VEVENT
DTSTART;TZID=UTC+0:20200712T100000
DTEND;TZID=UTC+0:20200712T110000
DTSTAMP:20260425T160855
CREATED:20200619T230305Z
LAST-MODIFIED:20200619T230305Z
UID:2252-1594548000-1594551600@www.freasfarmwines.com
SUMMARY:Yoga at the Winery
DESCRIPTION:Yoga at the Winery-Sunday\, Jul 12 at 10 am. \nWe will supply the mimosas or Bloody Mary for this morning gentle yoga! You supply your mat or towel. \n$20 includes class and a drink on the patio after class. \nPurchase Your Gentle Flow Yoga Here \n
URL:https://www.freasfarmwines.com/event/yoga-at-the-winery/
LOCATION:Freas Farm Winery\, 130 Twin Church Road\, Berwick\, PA\, 18603\, United States
ATTACH;FMTTYPE=image/jpeg:https://www.freasfarmwines.com/wp-content/uploads/2020/06/104065868_3162311773834136_7418765191962330619_o.jpg
END:VEVENT
END:VCALENDAR