BEGIN:VCALENDAR
VERSION:2.0
PRODID:-//Freas Farm Wines - ECPv4.7.3//NONSGML v1.0//EN
CALSCALE:GREGORIAN
METHOD:PUBLISH
X-WR-CALNAME:Freas Farm Wines
X-ORIGINAL-URL:https://www.freasfarmwines.com
X-WR-CALDESC:Events for Freas Farm Wines
BEGIN:VEVENT
DTSTART;TZID=UTC+0:20200814T190000
DTEND;TZID=UTC+0:20200814T210000
DTSTAMP:20260425T143951
CREATED:20200807T003153Z
LAST-MODIFIED:20200807T220921Z
UID:2291-1597431600-1597438800@www.freasfarmwines.com
SUMMARY:Tyler Erik- Music on the Patio
DESCRIPTION:THIS EVENT HAS BEEN RESCHEDULED FROM FRIDAY AUGUST 7th to FRIDAY AUGUST 14th. \nJoin us for an evening outside sipping beverages and listening to the acoustic sounds of Tyler Erik. \nEl Puerto de las Empanadas will be on site from 4pm – 9pm so be sure to come hungry!! \nSocial distancing seating. Face masks required\, you may remove them when seated at your table. \nMusic starts at 7pm. Happy Hour from 5pm to 7pm- dollar off patio drinks! \nClick Here to Purchase Your Ticket \n  \n
URL:https://www.freasfarmwines.com/event/tyler-erik-music-on-the-patio/
LOCATION:Freas Farm Winery\, 130 Twin Church Road\, Berwick\, PA\, 18603\, United States
ATTACH;FMTTYPE=image/jpeg:https://www.freasfarmwines.com/wp-content/uploads/2020/08/TE.jpg
END:VEVENT
END:VCALENDAR