BEGIN:VCALENDAR
VERSION:2.0
PRODID:-//Freas Farm Wines - ECPv4.7.3//NONSGML v1.0//EN
CALSCALE:GREGORIAN
METHOD:PUBLISH
X-WR-CALNAME:Freas Farm Wines
X-ORIGINAL-URL:https://www.freasfarmwines.com
X-WR-CALDESC:Events for Freas Farm Wines
BEGIN:VEVENT
DTSTART;TZID=UTC+0:20200626T190000
DTEND;TZID=UTC+0:20200626T210000
DTSTAMP:20260425T190105
CREATED:20200619T223051Z
LAST-MODIFIED:20200626T204719Z
UID:2244-1593198000-1593205200@www.freasfarmwines.com
SUMMARY:Tim Johnson Music on the Patio
DESCRIPTION:Join us for an evening outside sipping beverages and listening to the acoustic sounds of Tim Johnson. \nSocial distancing seating. \nMusic starts at 7pm. Happy Hour from 5pm to 7pm- dollar off patio drinks! \nPlease call 570-759-9463 for ticket availability \n
URL:https://www.freasfarmwines.com/event/tim-johnson-music-on-the-patio/
LOCATION:Freas Farm Winery\, 130 Twin Church Road\, Berwick\, PA\, 18603\, United States
ATTACH;FMTTYPE=image/jpeg:https://www.freasfarmwines.com/wp-content/uploads/2020/06/pexels-photo-1010519.jpg
END:VEVENT
END:VCALENDAR