BEGIN:VCALENDAR
VERSION:2.0
PRODID:-//Freas Farm Wines - ECPv4.7.3//NONSGML v1.0//EN
CALSCALE:GREGORIAN
METHOD:PUBLISH
X-WR-CALNAME:Freas Farm Wines
X-ORIGINAL-URL:https://www.freasfarmwines.com
X-WR-CALDESC:Events for Freas Farm Wines
BEGIN:VEVENT
DTSTART;TZID=UTC+0:20200503T150000
DTEND;TZID=UTC+0:20200503T150000
DTSTAMP:20260426T040019
CREATED:20200114T145407Z
LAST-MODIFIED:20200114T145744Z
UID:2067-1588518000-1588518000@www.freasfarmwines.com
SUMMARY:Girl Scout Cookie Pairing 3pm
DESCRIPTION:Click here to purchase your tickets! \nPurchase My Tickets \n
URL:https://www.freasfarmwines.com/event/girl-scout-cookie-pairing-3pm/
LOCATION:Freas Farm Winery\, 130 Twin Church Road\, Berwick\, PA\, 18603\, United States
END:VEVENT
END:VCALENDAR