BEGIN:VCALENDAR
VERSION:2.0
PRODID:-//Freas Farm Wines - ECPv4.7.3//NONSGML v1.0//EN
CALSCALE:GREGORIAN
METHOD:PUBLISH
X-WR-CALNAME:Freas Farm Wines
X-ORIGINAL-URL:https://www.freasfarmwines.com
X-WR-CALDESC:Events for Freas Farm Wines
BEGIN:VEVENT
DTSTART;TZID=UTC+0:20200530T100000
DTEND;TZID=UTC+0:20200530T130000
DTSTAMP:20260426T022338
CREATED:20200606T001509Z
LAST-MODIFIED:20200606T001509Z
UID:2192-1590832800-1590843600@www.freasfarmwines.com
SUMMARY:Forks Farm Market
DESCRIPTION:Farm to Fork Fondo \n
URL:https://www.freasfarmwines.com/event/forks-farm-market/
LOCATION:Forks Farm Market\, 299 Covered Bridges Ln\, Orangeville\, PA\, 17859\, United States
END:VEVENT
END:VCALENDAR