BEGIN:VCALENDAR
VERSION:2.0
PRODID:-//Freas Farm Wines - ECPv4.7.3//NONSGML v1.0//EN
CALSCALE:GREGORIAN
METHOD:PUBLISH
X-WR-CALNAME:Freas Farm Wines
X-ORIGINAL-URL:https://www.freasfarmwines.com
X-WR-CALDESC:Events for Freas Farm Wines
BEGIN:VEVENT
DTSTART;TZID=UTC+0:20200912T100000
DTEND;TZID=UTC+0:20200912T140000
DTSTAMP:20260425T161020
CREATED:20200606T002323Z
LAST-MODIFIED:20200606T002338Z
UID:2207-1599904800-1599919200@www.freasfarmwines.com
SUMMARY:Forks Farm Market
DESCRIPTION:Wellness Day! \n
URL:https://www.freasfarmwines.com/event/forks-farm-market-8/
LOCATION:Forks Farm Market\, 299 Covered Bridges Ln\, Orangeville\, PA\, 17859\, United States
END:VEVENT
END:VCALENDAR