BEGIN:VCALENDAR
VERSION:2.0
PRODID:-//Freas Farm Wines - ECPv4.7.3//NONSGML v1.0//EN
CALSCALE:GREGORIAN
METHOD:PUBLISH
X-WR-CALNAME:Freas Farm Wines
X-ORIGINAL-URL:https://www.freasfarmwines.com
X-WR-CALDESC:Events for Freas Farm Wines
BEGIN:VEVENT
DTSTART;TZID=UTC+0:20200822T100000
DTEND;TZID=UTC+0:20200822T140000
DTSTAMP:20260425T143853
CREATED:20200606T002210Z
LAST-MODIFIED:20200606T002210Z
UID:2205-1598090400-1598104800@www.freasfarmwines.com
SUMMARY:Forks Farm Market
DESCRIPTION:Corn Roast! \n
URL:https://www.freasfarmwines.com/event/forks-farm-market-7/
END:VEVENT
END:VCALENDAR