BEGIN:VCALENDAR
VERSION:2.0
PRODID:-//Freas Farm Wines - ECPv4.7.3//NONSGML v1.0//EN
CALSCALE:GREGORIAN
METHOD:PUBLISH
X-WR-CALNAME:Freas Farm Wines
X-ORIGINAL-URL:https://www.freasfarmwines.com
X-WR-CALDESC:Events for Freas Farm Wines
BEGIN:VEVENT
DTSTART;TZID=UTC+0:20200711T100000
DTEND;TZID=UTC+0:20200711T140000
DTSTAMP:20260425T160906
CREATED:20200606T001902Z
LAST-MODIFIED:20200606T001902Z
UID:2198-1594461600-1594476000@www.freasfarmwines.com
SUMMARY:Forks Farm Market
DESCRIPTION:Farm Tour! \n
URL:https://www.freasfarmwines.com/event/forks-farm-market-4/
END:VEVENT
END:VCALENDAR