BEGIN:VCALENDAR
VERSION:2.0
PRODID:-//Freas Farm Wines - ECPv4.7.3//NONSGML v1.0//EN
CALSCALE:GREGORIAN
METHOD:PUBLISH
X-WR-CALNAME:Freas Farm Wines
X-ORIGINAL-URL:https://www.freasfarmwines.com
X-WR-CALDESC:Events for Freas Farm Wines
BEGIN:VEVENT
DTSTART;TZID=UTC+0:20200829T190000
DTEND;TZID=UTC+0:20200829T220000
DTSTAMP:20260425T144122
CREATED:20200807T221615Z
LAST-MODIFIED:20200829T140248Z
UID:2351-1598727600-1598738400@www.freasfarmwines.com
SUMMARY:Deuce -  2017 News Item Readers' Voice Winner #1 Cover Band!
DESCRIPTION:Due to the inclement weather\, this event has been postponed. Stay tuned for the new date. \n  \n  \n  \n
URL:https://www.freasfarmwines.com/event/deuce-2017-news-item-readers-voice-winner-1-cover-band/
LOCATION:Freas Farm Winery\, 130 Twin Church Road\, Berwick\, PA\, 18603\, United States
ATTACH;FMTTYPE=image/jpeg:https://www.freasfarmwines.com/wp-content/uploads/2020/08/Deuce.jpg
END:VEVENT
END:VCALENDAR