BEGIN:VCALENDAR
VERSION:2.0
PRODID:-//Freas Farm Wines - ECPv4.7.3//NONSGML v1.0//EN
CALSCALE:GREGORIAN
METHOD:PUBLISH
X-WR-CALNAME:Freas Farm Wines
X-ORIGINAL-URL:https://www.freasfarmwines.com
X-WR-CALDESC:Events for Freas Farm Wines
BEGIN:VEVENT
DTSTART;TZID=UTC+0:20200808T090000
DTEND;TZID=UTC+0:20200808T130000
DTSTAMP:20260425T144015
CREATED:20200807T211956Z
LAST-MODIFIED:20200807T212124Z
UID:2299-1596877200-1596891600@www.freasfarmwines.com
SUMMARY:Bloomsburg Fairgrounds Farmer's Market
DESCRIPTION:\n\n\nProduce Milk\, Meat\, Cheese\, Honey & Eggs Beeswax \n\n\n\n\nBaked Breads and Pastries Gourmet Dog Biscuits Crafts & Handmade Items \n\n\nHomemade Bath & Beauty Products Home-Canned Goods Prepared Food \nFlowers\, Plants & Seedlings & MORE \n\n\n\n
URL:https://www.freasfarmwines.com/event/bloomsburg-fairgrounds-farmers-market-2/
LOCATION:Bloomsburg Fairgrounds\, 620 West Thrid Street\, Bloosmburg\, PA\, United States
ATTACH;FMTTYPE=image/jpeg:https://www.freasfarmwines.com/wp-content/uploads/2020/08/Bloomsburg-Fairgrounds.jpg
END:VEVENT
END:VCALENDAR