BEGIN:VCALENDAR
VERSION:2.0
PRODID:-//Freas Farm Wines - ECPv4.7.3//NONSGML v1.0//EN
CALSCALE:GREGORIAN
METHOD:PUBLISH
X-WR-CALNAME:Freas Farm Wines
X-ORIGINAL-URL:https://www.freasfarmwines.com
X-WR-CALDESC:Events for Freas Farm Wines
BEGIN:VEVENT
DTSTART;TZID=UTC+0:20200927T100000
DTEND;TZID=UTC+0:20200927T120000
DTSTAMP:20260425T160615
CREATED:20200807T233413Z
LAST-MODIFIED:20200807T233433Z
UID:2370-1601200800-1601208000@www.freasfarmwines.com
SUMMARY:Vino & Vinyasa
DESCRIPTION:Yoga at the Winery with Mrida Seva Yoga; Sunday\, September 27 beginning at 10 am. \nWe will supply the wine slushy for this morning gentle yoga! You supply your mat or towel. \n$20 includes class and a drink on the patio after class. \nPlease call the winery at 570-759-9463 to reserve your spot. \n
URL:https://www.freasfarmwines.com/event/2370/
LOCATION:Freas Farm Winery\, 130 Twin Church Road\, Berwick\, PA\, 18603\, United States
ATTACH;FMTTYPE=image/jpeg:https://www.freasfarmwines.com/wp-content/uploads/2020/08/Yoga.jpg
END:VEVENT
END:VCALENDAR